BEGIN:VCALENDAR
VERSION:2.0
PRODID:-//Iowa City UNESCO City of Literature - ECPv5.16.1.1//NONSGML v1.0//EN
CALSCALE:GREGORIAN
METHOD:PUBLISH
X-ORIGINAL-URL:https://www.iowacityofliterature.org
X-WR-CALDESC:Events for Iowa City UNESCO City of Literature
REFRESH-INTERVAL;VALUE=DURATION:PT1H
X-Robots-Tag:noindex
X-PUBLISHED-TTL:PT1H
BEGIN:VTIMEZONE
TZID:America/Chicago
BEGIN:DAYLIGHT
TZOFFSETFROM:-0600
TZOFFSETTO:-0500
TZNAME:CDT
DTSTART:20250309T080000
END:DAYLIGHT
BEGIN:STANDARD
TZOFFSETFROM:-0500
TZOFFSETTO:-0600
TZNAME:CST
DTSTART:20251102T070000
END:STANDARD
END:VTIMEZONE
BEGIN:VEVENT
DTSTART;TZID=America/Chicago:20251008T190000
DTEND;TZID=America/Chicago:20251008T190000
DTSTAMP:20260422T052300
CREATED:20250828T162721Z
LAST-MODIFIED:20251001T153308Z
UID:4766-1759950000-1759950000@www.iowacityofliterature.org
SUMMARY:John Warner – Only Humans Write: Why You Shouldn’t Outsource Your Humanity to ChatGPT
DESCRIPTION:John Warner\, author of More Than Words: How to Think About Writing in the Age of AI believes there are important distinctions to be made between the writing of humans and the syntax generation of large language models like ChatGPT. These distinctions are at the root of what he believes we should value\, the fact that human communication comes from our “unique intelligences” and that humans are not reducible to patterns and predictions. In this presentation he will talk about how to navigate the tensions that generative AI has introduced into our schools\, workplaces\, and lives in order to preserve essential and meaningful experiences related to our deepest human selves. \nIn the book\, Warner argues that generative AI programs like ChatGPT not only can kill the student essay but should\, since these assignments don’t challenge students to do the real work of writing. To Warner\, writing is thinking—discovering your ideas while trying to capture them on a page—and feeling—grappling with what it fundamentally means to be human. The fact that we ask students to complete so many assignments that a machine could do is a sign that something has gone very wrong with writing instruction. More Than Words calls for us to use AI as an opportunity to reckon with how we work with words—and how all of us should rethink our relationship with writing. \nThis event will be livestreamed and archived at the Iowa City Public Library’s YouTube channel. \n  \nCo-Presented by the University of Iowa School of Journalism and Mass Communication \n \n 
URL:https://www.iowacityofliterature.org/event/john-warner/
LOCATION:Iowa City Public Library\, 123 S. Linn St.\, Iowa City\, IA\, 52240\, United States
CATEGORIES:Iowa City Book Festival
ATTACH;FMTTYPE=image/jpeg:https://www.iowacityofliterature.org/wp-content/uploads/2025/08/More-than-Words.jpg
END:VEVENT
END:VCALENDAR